BEGIN:VCALENDAR
VERSION:2.0
PRODID:-//Ovesco - ECPv6.15.20//NONSGML v1.0//EN
CALSCALE:GREGORIAN
METHOD:PUBLISH
X-ORIGINAL-URL:https://ovesco.co.uk
X-WR-CALDESC:Events for Ovesco
REFRESH-INTERVAL;VALUE=DURATION:PT1H
X-Robots-Tag:noindex
X-PUBLISHED-TTL:PT1H
BEGIN:VTIMEZONE
TZID:Europe/London
BEGIN:DAYLIGHT
TZOFFSETFROM:+0000
TZOFFSETTO:+0100
TZNAME:BST
DTSTART:20230326T010000
END:DAYLIGHT
BEGIN:STANDARD
TZOFFSETFROM:+0100
TZOFFSETTO:+0000
TZNAME:GMT
DTSTART:20231029T010000
END:STANDARD
BEGIN:DAYLIGHT
TZOFFSETFROM:+0000
TZOFFSETTO:+0100
TZNAME:BST
DTSTART:20240331T010000
END:DAYLIGHT
BEGIN:STANDARD
TZOFFSETFROM:+0100
TZOFFSETTO:+0000
TZNAME:GMT
DTSTART:20241027T010000
END:STANDARD
BEGIN:DAYLIGHT
TZOFFSETFROM:+0000
TZOFFSETTO:+0100
TZNAME:BST
DTSTART:20250330T010000
END:DAYLIGHT
BEGIN:STANDARD
TZOFFSETFROM:+0100
TZOFFSETTO:+0000
TZNAME:GMT
DTSTART:20251026T010000
END:STANDARD
END:VTIMEZONE
BEGIN:VEVENT
DTSTART;TZID=Europe/London:20241114T193000
DTEND;TZID=Europe/London:20241114T210000
DTSTAMP:20260424T150432
CREATED:20241030T105940Z
LAST-MODIFIED:20241030T110157Z
UID:4732-1731612600-1731618000@ovesco.co.uk
SUMMARY:Why should we make our homes energy efficient?
DESCRIPTION:Find out how to make your home totally electric!\nWhen: Thursday 14th November 2024 7:30–9PM \nWhere: Ringmer Village Hall – Alan West Room \nNicki Myers\, Project Manager at Ovesco will giving a talk on how to make our home more energy efficient and will be joined by Howard Johns from OneZero. \nThe talks are FREE (donations appreciated) organised by the St Mary’s Eco Team
URL:https://ovesco.co.uk/event/why-should-we-make-our-homes-energy-efficient/
LOCATION:Ringmer Village Hall\, Lewes Rd\, Ringmer\, BN8 5QH\, United Kingdom
CATEGORIES:Ovesco in attending
ATTACH;FMTTYPE=image/jpeg:https://ovesco.co.uk/wp-content/uploads/2024/10/67713523_10158335823387439_6207294917539004416_n.jpg
END:VEVENT
END:VCALENDAR