BEGIN:VCALENDAR
VERSION:2.0
PRODID:-//Ovesco - ECPv6.15.20//NONSGML v1.0//EN
CALSCALE:GREGORIAN
METHOD:PUBLISH
X-WR-CALNAME:Ovesco
X-ORIGINAL-URL:https://ovesco.co.uk
X-WR-CALDESC:Events for Ovesco
REFRESH-INTERVAL;VALUE=DURATION:PT1H
X-Robots-Tag:noindex
X-PUBLISHED-TTL:PT1H
BEGIN:VTIMEZONE
TZID:Europe/London
BEGIN:DAYLIGHT
TZOFFSETFROM:+0000
TZOFFSETTO:+0100
TZNAME:BST
DTSTART:20230326T010000
END:DAYLIGHT
BEGIN:STANDARD
TZOFFSETFROM:+0100
TZOFFSETTO:+0000
TZNAME:GMT
DTSTART:20231029T010000
END:STANDARD
BEGIN:DAYLIGHT
TZOFFSETFROM:+0000
TZOFFSETTO:+0100
TZNAME:BST
DTSTART:20240331T010000
END:DAYLIGHT
BEGIN:STANDARD
TZOFFSETFROM:+0100
TZOFFSETTO:+0000
TZNAME:GMT
DTSTART:20241027T010000
END:STANDARD
BEGIN:DAYLIGHT
TZOFFSETFROM:+0000
TZOFFSETTO:+0100
TZNAME:BST
DTSTART:20250330T010000
END:DAYLIGHT
BEGIN:STANDARD
TZOFFSETFROM:+0100
TZOFFSETTO:+0000
TZNAME:GMT
DTSTART:20251026T010000
END:STANDARD
END:VTIMEZONE
BEGIN:VEVENT
DTSTART;TZID=Europe/London:20241116T130000
DTEND;TZID=Europe/London:20241116T150000
DTSTAMP:20260424T151753
CREATED:20241009T110345Z
LAST-MODIFIED:20241024T143634Z
UID:4695-1731762000-1731769200@ovesco.co.uk
SUMMARY:Eco Home Energy Talks at the Lewes Climate Hub
DESCRIPTION:Join Ovesco for two weekends in November for Eco Home Energy Talks at Lewes Climate Hub.\nInstalling Heat pumps – 9th November 1PM\nCome and listen to Nicki Myers\, Project Manager at Ovesco\, speak on the latest developments in Heat Pumps and the practicalities of installing one to heat your home. \nInstalling Solar PV – 16th November 1PM\nCome and learn about how to install Solar PV panels to power your home\, what it will cost and the best suppliers. \nOvesco’s Energy Champions will be available both weekends from 11-3PM to provide FREE impartial advice on how to save energy at home to stay warm this coming winter. \nVisit Lewes Climate Hub for more info – https://lewesclimatehub.org/green-home-energy-talks-at-the-hub
URL:https://ovesco.co.uk/event/green-home-energy-talks-at-the-lewes-climate-hub-2/
LOCATION:Lewes House\, 32 High Street\, Lewes\, BN7 2LU
CATEGORIES:Ovesco in attending
ATTACH;FMTTYPE=image/png:https://ovesco.co.uk/wp-content/uploads/2024/10/Eco-Home-Talks-1-1.png
END:VEVENT
END:VCALENDAR