BEGIN:VCALENDAR
VERSION:2.0
PRODID:-//Ovesco - ECPv6.15.20//NONSGML v1.0//EN
CALSCALE:GREGORIAN
METHOD:PUBLISH
X-ORIGINAL-URL:https://ovesco.co.uk
X-WR-CALDESC:Events for Ovesco
REFRESH-INTERVAL;VALUE=DURATION:PT1H
X-Robots-Tag:noindex
X-PUBLISHED-TTL:PT1H
BEGIN:VTIMEZONE
TZID:Europe/London
BEGIN:DAYLIGHT
TZOFFSETFROM:+0000
TZOFFSETTO:+0100
TZNAME:BST
DTSTART:20240331T010000
END:DAYLIGHT
BEGIN:STANDARD
TZOFFSETFROM:+0100
TZOFFSETTO:+0000
TZNAME:GMT
DTSTART:20241027T010000
END:STANDARD
BEGIN:DAYLIGHT
TZOFFSETFROM:+0000
TZOFFSETTO:+0100
TZNAME:BST
DTSTART:20250330T010000
END:DAYLIGHT
BEGIN:STANDARD
TZOFFSETFROM:+0100
TZOFFSETTO:+0000
TZNAME:GMT
DTSTART:20251026T010000
END:STANDARD
BEGIN:DAYLIGHT
TZOFFSETFROM:+0000
TZOFFSETTO:+0100
TZNAME:BST
DTSTART:20260329T010000
END:DAYLIGHT
BEGIN:STANDARD
TZOFFSETFROM:+0100
TZOFFSETTO:+0000
TZNAME:GMT
DTSTART:20261025T010000
END:STANDARD
END:VTIMEZONE
BEGIN:VEVENT
DTSTART;TZID=Europe/London:20250123T191500
DTEND;TZID=Europe/London:20250123T210000
DTSTAMP:20260424T095849
CREATED:20250108T141006Z
LAST-MODIFIED:20250115T110747Z
UID:5165-1737659700-1737666000@ovesco.co.uk
SUMMARY:Newick Energy Roadshow
DESCRIPTION:Everything you need to know about Solar panels and Heat pumps\nLearn how you can tackle climate change in your own home and lower your energy bills. Our energy expert Nikki Myers will be attending to answer all your questions! Energy advice one-to-ones also available. \nWhen: Thursday 23rd January\, 7.15pm – 9pm \nWhere: Newick Community Centre \nRefreshments included. \nFree event but booking is recommended\, click here to book your space.
URL:https://ovesco.co.uk/event/newick-energy-roadshow/
LOCATION:Newick Community Centre\, Marbles Rd\, Newick\, BN8 4LR
CATEGORIES:Ovesco in attending
ATTACH;FMTTYPE=image/png:https://ovesco.co.uk/wp-content/uploads/2025/01/Newick-Facebook.png
END:VEVENT
END:VCALENDAR