BEGIN:VCALENDAR
VERSION:2.0
PRODID:-//Ovesco - ECPv6.15.20//NONSGML v1.0//EN
CALSCALE:GREGORIAN
METHOD:PUBLISH
X-ORIGINAL-URL:https://ovesco.co.uk
X-WR-CALDESC:Events for Ovesco
REFRESH-INTERVAL;VALUE=DURATION:PT1H
X-Robots-Tag:noindex
X-PUBLISHED-TTL:PT1H
BEGIN:VTIMEZONE
TZID:Europe/London
BEGIN:DAYLIGHT
TZOFFSETFROM:+0000
TZOFFSETTO:+0100
TZNAME:BST
DTSTART:20230326T010000
END:DAYLIGHT
BEGIN:STANDARD
TZOFFSETFROM:+0100
TZOFFSETTO:+0000
TZNAME:GMT
DTSTART:20231029T010000
END:STANDARD
BEGIN:DAYLIGHT
TZOFFSETFROM:+0000
TZOFFSETTO:+0100
TZNAME:BST
DTSTART:20240331T010000
END:DAYLIGHT
BEGIN:STANDARD
TZOFFSETFROM:+0100
TZOFFSETTO:+0000
TZNAME:GMT
DTSTART:20241027T010000
END:STANDARD
BEGIN:DAYLIGHT
TZOFFSETFROM:+0000
TZOFFSETTO:+0100
TZNAME:BST
DTSTART:20250330T010000
END:DAYLIGHT
BEGIN:STANDARD
TZOFFSETFROM:+0100
TZOFFSETTO:+0000
TZNAME:GMT
DTSTART:20251026T010000
END:STANDARD
END:VTIMEZONE
BEGIN:VEVENT
DTSTART;VALUE=DATE:20240914
DTEND;VALUE=DATE:20240923
DTSTAMP:20260424T165323
CREATED:20240724T135351Z
LAST-MODIFIED:20240904T105602Z
UID:4588-1726272000-1727049599@ovesco.co.uk
SUMMARY:Eco Home Open Houses
DESCRIPTION:Excited to announce our newest event Eco Home Open House!\nThis September\, local residents in the Lewes District are throwing open their doors so you can visit and see what changes they have made to their homes to make them more energy efficient.   Come and visit the homes\, chat to the local homeowners directly and be inspired to make changes yourselves.   \nThe eco open homes will range from brand new houses to Victorian and older where homeowners have been able to decarbonise and electrify.  The open house tours in Barcombe and Lewes will take place on the weekend of the 14th and 15th of September. \nThe open homes in Rodmell\, Newhaven and Seaford will take place the following weekend on the 21st and 22nd of September. There will be a mix of bookable tours and walk ins. If you would like more info on the Eco home Open Houses\, download our brochure now! \nTimetable\nMost houses are open 10am–1pm and 2pm–4pm. Some houses are only open one day or for half a day. Please check for individual houses for details found in the brochure. \nThe following houses have tours that need to be booked on Eventbrite. Please note that tours last around an hour. \nHOUSE 1: 60 Barons Down Road tours on Sunday 15 Sept at 10am & 1.30pm \nHOUSE 2: 5 Manor Terrace tours on Saturday 14 Sept at 11.30am & 3pm \nHOUSE 4: 1a The Lynchets tours on Saturday 14 Sept at 10am & 1.30pm and Sunday 15 Sept at 10am and 1.30pm \nHOUSE 5: 29 Harvard Close tours on Saturday 14 Sept at 11.30am & 3pm and Sunday 15 Sept at 11.30am and 3pm \nHOUSE 15: Black Timber House tours on Saturday 21 Sept at 9.30am & 10.45am \nHOUSE 18: 16 Denton Drive tours on Saturday 21st Sept at 10am & 2pm and Sunday 22 Sept at 2pm
URL:https://ovesco.co.uk/event/eco-home-open-houses/
LOCATION:Lewes District
ATTACH;FMTTYPE=image/png:https://ovesco.co.uk/wp-content/uploads/2024/07/A6-Post-Card-final-e1724855765757.png
END:VEVENT
END:VCALENDAR