BEGIN:VCALENDAR
VERSION:2.0
PRODID:-//Ovesco - ECPv6.15.20//NONSGML v1.0//EN
CALSCALE:GREGORIAN
METHOD:PUBLISH
X-ORIGINAL-URL:https://ovesco.co.uk
X-WR-CALDESC:Events for Ovesco
REFRESH-INTERVAL;VALUE=DURATION:PT1H
X-Robots-Tag:noindex
X-PUBLISHED-TTL:PT1H
BEGIN:VTIMEZONE
TZID:Europe/London
BEGIN:DAYLIGHT
TZOFFSETFROM:+0000
TZOFFSETTO:+0100
TZNAME:BST
DTSTART:20250330T010000
END:DAYLIGHT
BEGIN:STANDARD
TZOFFSETFROM:+0100
TZOFFSETTO:+0000
TZNAME:GMT
DTSTART:20251026T010000
END:STANDARD
BEGIN:DAYLIGHT
TZOFFSETFROM:+0000
TZOFFSETTO:+0100
TZNAME:BST
DTSTART:20260329T010000
END:DAYLIGHT
BEGIN:STANDARD
TZOFFSETFROM:+0100
TZOFFSETTO:+0000
TZNAME:GMT
DTSTART:20261025T010000
END:STANDARD
BEGIN:DAYLIGHT
TZOFFSETFROM:+0000
TZOFFSETTO:+0100
TZNAME:BST
DTSTART:20270328T010000
END:DAYLIGHT
BEGIN:STANDARD
TZOFFSETFROM:+0100
TZOFFSETTO:+0000
TZNAME:GMT
DTSTART:20271031T010000
END:STANDARD
END:VTIMEZONE
BEGIN:VEVENT
DTSTART;TZID=Europe/London:20260328T160000
DTEND;TZID=Europe/London:20260328T173000
DTSTAMP:20260423T000032
CREATED:20260316T172006Z
LAST-MODIFIED:20260317T132158Z
UID:5935-1774713600-1774719000@ovesco.co.uk
SUMMARY:Pop-Up Eco Home in Seaford
DESCRIPTION:Curious about how insulation really performs in a home? \nJoin us for a special pop-up eco house tour in Seaford\, organised by OVESCO and hosted by Architectural Designer Carol Smyth of Design Hindover. \nThis session at Carol’s house is focused on thermal imaging.  Carol will open her home and show thermal imaging taken this March and compare to last year’s imaging. There will be a lively discussion of how to use a thermal imaging camera\, a run through of the improvements made and what the camera is showing us\, the performance of the house this winter and what work will be done next. Carol’s house has undergone a “deep” retrofit; external solid wall insulation\, triple glazing and air tightness. \nThis is a relaxed\, friendly tour where you can ask questions and learn from real-life experience. \nIt’s a great opportunity if you’re thinking about improving your own home\, or simply curious about how homes can be made warmer and more energy efficient. \n📍 Location: Alfriston Rd\, Seaford (address shared after booking)\n🎟 Free event – booking required\n👥 Spaces are limited  \nPlease book your spot on the 4pm tour via Eventbrite
URL:https://ovesco.co.uk/event/pop-up-eco-home-in-seaford/
LOCATION:Seaford\, United Kingdom
ATTACH;FMTTYPE=image/jpeg:https://ovesco.co.uk/wp-content/uploads/2026/03/Hindover-popup-March-2026.jpg
END:VEVENT
END:VCALENDAR