BEGIN:VCALENDAR
VERSION:2.0
PRODID:-//Ovesco - ECPv6.15.20//NONSGML v1.0//EN
CALSCALE:GREGORIAN
METHOD:PUBLISH
X-WR-CALNAME:Ovesco
X-ORIGINAL-URL:https://ovesco.co.uk
X-WR-CALDESC:Events for Ovesco
REFRESH-INTERVAL;VALUE=DURATION:PT1H
X-Robots-Tag:noindex
X-PUBLISHED-TTL:PT1H
BEGIN:VTIMEZONE
TZID:Europe/London
BEGIN:DAYLIGHT
TZOFFSETFROM:+0000
TZOFFSETTO:+0100
TZNAME:BST
DTSTART:20230326T010000
END:DAYLIGHT
BEGIN:STANDARD
TZOFFSETFROM:+0100
TZOFFSETTO:+0000
TZNAME:GMT
DTSTART:20231029T010000
END:STANDARD
BEGIN:DAYLIGHT
TZOFFSETFROM:+0000
TZOFFSETTO:+0100
TZNAME:BST
DTSTART:20240331T010000
END:DAYLIGHT
BEGIN:STANDARD
TZOFFSETFROM:+0100
TZOFFSETTO:+0000
TZNAME:GMT
DTSTART:20241027T010000
END:STANDARD
BEGIN:DAYLIGHT
TZOFFSETFROM:+0000
TZOFFSETTO:+0100
TZNAME:BST
DTSTART:20250330T010000
END:DAYLIGHT
BEGIN:STANDARD
TZOFFSETFROM:+0100
TZOFFSETTO:+0000
TZNAME:GMT
DTSTART:20251026T010000
END:STANDARD
END:VTIMEZONE
BEGIN:VEVENT
DTSTART;TZID=Europe/London:20240831T100000
DTEND;TZID=Europe/London:20240831T130000
DTSTAMP:20260423T114557
CREATED:20240725T083611Z
LAST-MODIFIED:20240725T083611Z
UID:4610-1725098400-1725109200@ovesco.co.uk
SUMMARY:Lewes Societies Fair 2024
DESCRIPTION:Excited to announce that the Lewes Societies Fair will be returning in the summer of 2024!\nCome and find a new club or hobby\, meet new people\, and get involved. Lots of Lewes clubs and societies are represented. The event is free to the public.\n\nOvesco will be in attendance\, ready to provide FREE impartial energy advice and to chat about your home retrofit needs.
URL:https://ovesco.co.uk/event/lewes-societies-fair-2024/
LOCATION:Lewes Town Hall\, Town Hall\, High St\, Lewes\, BN7 2QS
CATEGORIES:Ovesco in attending
ATTACH;FMTTYPE=image/jpeg:https://ovesco.co.uk/wp-content/uploads/2024/07/452174655_486572324086232_5082665837074989536_n-e1721896377572.jpg
END:VEVENT
BEGIN:VEVENT
DTSTART;TZID=Europe/London:20240818T140000
DTEND;TZID=Europe/London:20240818T160000
DTSTAMP:20260423T114557
CREATED:20240725T081959Z
LAST-MODIFIED:20240725T081959Z
UID:4602-1723989600-1723996800@ovesco.co.uk
SUMMARY:Rodmell Summer Show
DESCRIPTION:Rodmell Summer Show\nWhen: Saturday 17th August 2024\nWhere: Rodmell Sports Field\nAdmission £2 per adult; children free of charge. No need to book\, just turn up on the day!\nMusic will be provided through the afternoon and there will be lots of competitions for all the family to enter – Vegetables and Fruit\, Flowers\, Flower Arrangements\, Food\, Arts & Crafts\, Photography\, and classes for Children. If you don’t want to exhibit anything\, that’s fine. Just come along and enjoy the fun. \nIn addition to the Rodmell Horticultural Society’s Flower & Produce Show\, there are teas & homemade cakes\, Pimms and beer tent – and much more! \nOvesco will be in attendance with our own stand to provide FREE impartial energy advice. Hope to see you there! \nThe schedule giving full details for our Rodmell Summer Show will be delivered through your letterbox; meanwhile the show needs lots of helpers\, particularly on the set-up days\, Thursday and Friday 15th and 16th\, and for the big take-down on Sunday 18th. \nIf you’d like to help please contact Jill Goldman\,  jill.goldman1041@gmail.com
URL:https://ovesco.co.uk/event/rodmell-summer-show/
CATEGORIES:Ovesco in attending
ATTACH;FMTTYPE=image/jpeg:https://ovesco.co.uk/wp-content/uploads/2024/07/Rodmell_Iford_and_Kingston_from_Itford_Hill_Southease_-_geograph.org_.uk_-_1118880.jpg
END:VEVENT
BEGIN:VEVENT
DTSTART;TZID=Europe/London:20240718T180000
DTEND;TZID=Europe/London:20240718T200000
DTSTAMP:20260423T114557
CREATED:20240626T153443Z
LAST-MODIFIED:20240704T153601Z
UID:4557-1721325600-1721332800@ovesco.co.uk
SUMMARY:Pop-up Eco Open House in Seaford
DESCRIPTION:Seaford based architectural designer opens their family house to showcase energy efficiency measures including solid wall insulation\, triple glazing and loft insulation. This house is a work in progress and gives a rarely seen glimpse into the inner workings of installing all these measures and more. \nCome and chat to the homeowners\, find out how they are doing it and why and what difference it will make to their home. Be inspired to make those changes in your own home! \nOpen 18th July 2024\, tours at 18:00\, 19:00\, 20:00 . The address will be provided in the confirmation email once you have booked your place. \nOnly limited spaces so book your place now! \nClick here to book the 18:00 tour. \nClick here to book the 19:00 tour. \nClick here to book the 20:00 tour.
URL:https://ovesco.co.uk/event/pop-up-eco-open-house-in-seaford/
LOCATION:Seaford\, United Kingdom
CATEGORIES:Eco Homes Open Houses
ATTACH;FMTTYPE=image/png:https://ovesco.co.uk/wp-content/uploads/2024/06/Artboard-2.png
END:VEVENT
BEGIN:VEVENT
DTSTART;TZID=Europe/London:20240713T110000
DTEND;TZID=Europe/London:20240713T150000
DTSTAMP:20260423T114557
CREATED:20240619T145353Z
LAST-MODIFIED:20240619T145627Z
UID:4536-1720868400-1720882800@ovesco.co.uk
SUMMARY:Peacehaven Climate Fair
DESCRIPTION:Peacehaven Town Council is once again hosting the Annual Community Summer Fair. Watch this space for more info
URL:https://ovesco.co.uk/event/peacehaven-climate-fair/
CATEGORIES:Ovesco in attending
ATTACH;FMTTYPE=image/png:https://ovesco.co.uk/wp-content/uploads/2024/06/Peacehaven.png
END:VEVENT
BEGIN:VEVENT
DTSTART;TZID=Europe/London:20240706T100000
DTEND;TZID=Europe/London:20240706T140000
DTSTAMP:20260423T114557
CREATED:20240605T132727Z
LAST-MODIFIED:20240605T132727Z
UID:4520-1720260000-1720274400@ovesco.co.uk
SUMMARY:The Green Jamboree
DESCRIPTION:Green Chiddingly is hosting The Green Jamboree takes place from 10am-2pm on Saturday 6th July at Chiddingly Village Shop\, Muddles Green\, BN8 6HW. \nThe day will involve a range of activities for all the family\, including various eco crafts\, children’s entertainment and the chance to build your own bug hotel and make wildflower seed bombs. If you are looking for ideas about how to live greener\, you can visit the ‘Create the Future Roadshow’ for energy advice and tips on eating locally and seasonally. Ovesco will be in attendance to provide free impartial energy advice.  \nSaturday 6 July is also National Meadows Day. To celebrate\, Green Chiddingly have organised a Guided Nature Walk through their own public meadow\, the Jubilee Field in Muddles Green. The walk will start from the Village Shop\, last around 30 minutes\, and is suitable for all ages. \nFor more information about the day\, visit Green Chiddingly’s website.
URL:https://ovesco.co.uk/event/the-green-jamboree/
LOCATION:Chiddingly Village Shop\, Muddles Green\, Chiddingly\, BN8 6HW\, United Kingdom
CATEGORIES:Ovesco in attending
ATTACH;FMTTYPE=image/png:https://ovesco.co.uk/wp-content/uploads/2024/06/Screenshot-2024-06-05-at-14.17.12.png
END:VEVENT
BEGIN:VEVENT
DTSTART;TZID=Europe/London:20240630T110000
DTEND;TZID=Europe/London:20240630T160000
DTSTAMP:20260423T114557
CREATED:20240515T131716Z
LAST-MODIFIED:20240515T131716Z
UID:4486-1719745200-1719763200@ovesco.co.uk
SUMMARY:Newick Food Fair
DESCRIPTION:Newick Food Fair\nSunday 30th June 11am-4pm\nNewick Food Fair is raising money for St Peters & St James. \nEvent Highlights:\n\nOver 25 food stalls\nKid activities\nDelicious street food – this year there will be a BBQ run by the Newick Bonfire Society along with other street food stands\nNew road show\n\nThis event is also welcoming the Travelling Future Roadshow\nThe Travelling Future Roadshow is visiting towns\, villages and parishes across the Lewes District this summer to inspire\, inform and entertain on issues related to climate change action. \nEvent Highlights:\nGreencuisine Trust\nDaphne Lambert of Greencuisine Trust is an eco-nutritionist\, focusing on the interaction between agriculture\, ecology and human nutrition. Through practical demonstration using local\, seasonal foods\, Daphne can show how we gain optimum nutrition\, health & wellbeing being while natural resources. \nMovingSounds\nMoving Sounds is an arts-based CIC\, passionate about transforming lives through creativity\, they use participatory games\, music\, stories to engage audiences of all ages. \nOvesco \nOvesco is a key partner in looking at how we can find more sustainable solutions to our energy needs. Their energy champions will be avaliable for discussions\, interactive information and advice. \nAnd introducing\nOld Tree Soil \nTom from Old Tree Brewery will be here to talk all things compost. Our compost education workshops teach children and young people how to make compost\, what living soil is and the wildlife that calls it home. Find out about the Mycelium Composting Network! \n  \n  \n 
URL:https://ovesco.co.uk/event/newick-food-fair/
LOCATION:Newick Green\, Community Centre\, Newick\, BN8 4LB
CATEGORIES:Ovesco in attending
ATTACH;FMTTYPE=image/png:https://ovesco.co.uk/wp-content/uploads/2024/05/Screenshot-2024-05-15-at-14.15.58.png
END:VEVENT
BEGIN:VEVENT
DTSTART;TZID=Europe/London:20240622T100000
DTEND;TZID=Europe/London:20240623T170000
DTSTAMP:20260423T114557
CREATED:20240529T154407Z
LAST-MODIFIED:20240529T154407Z
UID:4494-1719050400-1719162000@ovesco.co.uk
SUMMARY:Science Festival Weekend at The Observatory Science Centre
DESCRIPTION:Science Festival Weekend at The Observatory Science Centre\nCelebrate summer with a weekend full of Science fun!\nSpectacular Science across all topics with extra activities for the whole family.\nSpectacular science shows: Science adventures in our inflatable dome: Solar viewing: Looking at the Sun safely through specialist solar telescopes: Satellites: An exhibition with activities which will help you learn about satellites PLUS guest exhibitors to inspire and excite. \nCome and meet Nick Rouse energy guru and the OVESCO team. Using Nick’s hands on energy models you can learn about the history of energy and the multitude of ways electricity is generated. Cycle our energy bikes and see if you can power up light towers and learn just how hard it is to boil a kettle in your home. Learn about how we are changing the way we provide electricity from generators using coal power in the past to the future of energy from solar and wind power. All provided by local community energy company OVESCO\, which is powering local businesses and schools with community solar PV. \n 
URL:https://ovesco.co.uk/event/science-festival-weekend-at-the-observatory-science-centre/
LOCATION:The Observatory Science Centre\, Wartling Road\, Wartling\, Herstmonceux\, BN27 1RN
CATEGORIES:Ovesco in attending
ATTACH;FMTTYPE=image/jpeg:https://ovesco.co.uk/wp-content/uploads/2024/05/download.jpeg
END:VEVENT
BEGIN:VEVENT
DTSTART;TZID=Europe/London:20240601T120000
DTEND;TZID=Europe/London:20240601T160000
DTSTAMP:20260423T114557
CREATED:20240515T122117Z
LAST-MODIFIED:20240530T100810Z
UID:4479-1717243200-1717257600@ovesco.co.uk
SUMMARY:Sustainable Seaford Fair
DESCRIPTION:The Sustainable Seaford Fair brought to you by Sharing Skills CIC and Seaford Head School.\nSaturday 1st June 12pm-4pm\nJoin them for a festival of sustainability! \nSchools\, environment groups\, businesses\, and communities will come together to celebrate what we’re doing to live more sustainably and to learn about the small steps we can take to do more. \n\nThere’ll be music\, food\, talks\, stalls and activities to provide information\, connection\, and fun!\nVisit the developing school vegetable garden being created by the students and staff.\nMusic provided by the students and local band ‘Music from the Sofa’.\nThe Food Tech department will be whizzing up smoothies using surplus fruit with thanks to Morrisons and Havens Food Cooperative.\nA programme of talks and discussion facilitated by the UNA Climate & Oceans Youth Cabinet.\n\nOvesco will be in attendance with our Energy Champions\, offering free advice and support on reducing energy usage in the home. \nEvent programme:\n12:00 – Films and introduction from the UNA Climate & Oceans youth council\n12:15 – 12:45pm – Chris Rowland CEO of Ovesco CIC Ltd a community energy company – Ovesco in the community\n12:55 – 1:15pm – Cosmo Robertson – a member of the UNA Climate & Oceans youth council – “Revival: Stories of Rewilding Sussex. A conversation with a young film Director”\n1:25pm – Paul Turner from Ministry of Eco – a summary of the climate & nature crisis\n2 – 2:30pm – Cat Fletcher – Freegle UK co-founder and waste prevention activist talks about her inspiring projects\n2:40 – 3pm – Helen Rankin – Owner Managing Director of local company Cheeky Wipes – Cheeky Pants and The Nappy Gurus\n3:10 – 3:30pm – David St Maur Sheil – artist\, gardener and advocate for greater soil awareness – Soil and Art\, Roots of Landscape\n3:35pm Film showing – Revival: Stories of Rewilding Sussex\, directed by a member of the UNA Climate & Oceans youth council Cosmo Robertson
URL:https://ovesco.co.uk/event/sustainable-seaford-fair/
LOCATION:Seaford Head School\, Steyne Road\, Seaford\, Seaford Head School\, Steyne Road\, Seaford\, BN25 1\, United Kingdom
CATEGORIES:Ovesco in attending
ATTACH;FMTTYPE=image/png:https://ovesco.co.uk/wp-content/uploads/2024/05/Screenshot-2024-05-15-at-13.22.48.png
END:VEVENT
BEGIN:VEVENT
DTSTART;TZID=Europe/London:20240518T100000
DTEND;TZID=Europe/London:20240518T150000
DTSTAMP:20260423T114557
CREATED:20240320T151732Z
LAST-MODIFIED:20240425T152319Z
UID:4420-1716026400-1716044400@ovesco.co.uk
SUMMARY:Eco Home Extravaganza
DESCRIPTION:Are you interested in making your home more sustainable\, greener and warmer?  \nLook no further! Come and join us at our Eco Home Extravaganza at Lewes Town Hall on the 18th May between 10am-3pm.  \nThis community event will bring together retrofit experts and local suppliers to inspire and advise on how we can create energy-efficient homes that not only reduce utility bills but contribute positively to the environment. \nThere is a huge drive in the UK to retrofit our homes but for many this can feel daunting and overwhelming\, perhaps thinking\, ‘is it too costly\, or where do I even start?’ We also know there are particular challenges for a great deal of homeowners in Lewes; a town with many listed buildings in a conservation area. We have 26 exhibitors joining us for the day that will be able to answer questions and queries from local residents on ways to improve and future-proof their homes. This could be through making small changes such as installing LED lightbulbs\, or help with tackling draughts and insulation\, right through to renewable and sustainable energy solutions such as heat pumps and solar.   \nWhether you’re a homeowner already on your way to retrofitting your existing space\, or someone interested in taking those first steps – our Eco Home Extravaganza will be a relaxed and welcoming event with ideas\, inspiration and practical tips. Family friendly with a café\, plus a chance to win a Home Energy Plan worth £500.
URL:https://ovesco.co.uk/event/eco-home-extravaganza/
LOCATION:Lewes Town Hall\, Town Hall\, High St\, Lewes\, BN7 2QS
ATTACH;FMTTYPE=image/jpeg:https://ovesco.co.uk/wp-content/uploads/2024/03/eco-copy.jpg
END:VEVENT
BEGIN:VEVENT
DTSTART;TZID=Europe/London:20240504T100000
DTEND;TZID=Europe/London:20240504T130000
DTSTAMP:20260423T114557
CREATED:20240424T122339Z
LAST-MODIFIED:20240424T122726Z
UID:4444-1714816800-1714827600@ovesco.co.uk
SUMMARY:Friends of Bishopstone Open Day
DESCRIPTION:Friends of Bishopstone are hosting a Open Day! \nSaturday 4th May 10am-1pm \nCome and visit the Old Parcel Room community hub and see the restored Lobby Room and Bishoptone Station Hall. \nMeet Friends of Bishopstone volunteers and hear about our projects and how you can involved. \nWhat you can expect: \n\nBottle Tombola\nBishopstone Station souvenirs\n‘Pop-up pantry’ larder\nEnergy advice\nand much more…\n\nOvesco will be in attendance with our Energy Champions\, offering free advice and support on reducing energy usage in the home. \nFor more information visit Friends of Bishopstone’s website. \n 
URL:https://ovesco.co.uk/event/friends-of-bishopstone-open-day/
LOCATION:Community Hub Bishopstone Station\, Station Road\, Bishopstone\, BN25 2RB\, United Kingdom
CATEGORIES:Ovesco in attending
ATTACH;FMTTYPE=image/jpeg:https://ovesco.co.uk/wp-content/uploads/2024/04/bishopstone-station.jpg
END:VEVENT
BEGIN:VEVENT
DTSTART;TZID=Europe/London:20240327T120000
DTEND;TZID=Europe/London:20240327T140000
DTSTAMP:20260423T114557
CREATED:20240320T140047Z
LAST-MODIFIED:20240320T140129Z
UID:4416-1711540800-1711548000@ovesco.co.uk
SUMMARY:Electrical Blanket PAT Testing in Lewes
DESCRIPTION:Do you have an electric blanket? Did you know it’s important to get them tested every three years? \nWe are offering free PAT testing for electric blankets during the month of March. Pop along to one of our events\, along with your blanket to get it PAT tested. \nWhen: Wednesday 27th March\, 12pm -1:30pm \nWhere: Lewes House 32 High Street\, Lewes\, BN7 2LU \nFor further information\, please contact Ovesco at 0800 458 9045
URL:https://ovesco.co.uk/event/electrical-blanket-pat-testing-in-lewes/
LOCATION:Lewes House\, 32 High Street\, Lewes\, BN7 2LU
ATTACH;FMTTYPE=image/png:https://ovesco.co.uk/wp-content/uploads/2024/03/AdobeStock_562873121-1.png
END:VEVENT
BEGIN:VEVENT
DTSTART;TZID=Europe/London:20240321T110000
DTEND;TZID=Europe/London:20240321T140000
DTSTAMP:20260423T114557
CREATED:20240320T095734Z
LAST-MODIFIED:20240320T095734Z
UID:4401-1711018800-1711029600@ovesco.co.uk
SUMMARY:Community Energy England Regional Forum 2024
DESCRIPTION:Join Community Energy South and Community Energy England for their first Regional Member Forum of 2024\, supported by UK Power Networks and Ouse Valley Climate Action. The event will a lively gathering of like-minded individuals passionate about community energy. \nThis in-person event will take place on Thursday 21 March 2024 at 11:00 AM at the East Sussex College Newhaven – Marine Workshops. \nCome and find us at our exhibition table throughout the day\, we will be presenting what Ovesco does day-to-day. \nThroughout the day\, there will be various engaging sessions taking place\, covering a wide range of capacity building topics relevant to our our sector. Expect interactive workshops focused on strengthening community energy groups and networking opportunities that will help you build valuable connections. \nFor more information visit Community Energy England’s website
URL:https://ovesco.co.uk/event/community-energy-england-regional-forum-2024/
LOCATION:East Sussex College Newhaven\, Marine Workshops\, Newhaven\, BN9 0ER
ATTACH;FMTTYPE=image/png:https://ovesco.co.uk/wp-content/uploads/2024/03/Screenshot-2024-03-20-at-09.48.15.png
END:VEVENT
BEGIN:VEVENT
DTSTART;TZID=Europe/London:20240318T111500
DTEND;TZID=Europe/London:20240318T123000
DTSTAMP:20260423T114557
CREATED:20240314T123717Z
LAST-MODIFIED:20240314T123717Z
UID:4387-1710760500-1710765000@ovesco.co.uk
SUMMARY:Electrical Blanket PAT Testing
DESCRIPTION:Do you have an electric blanket? Did you know it’s important to get them tested every three years? \nWe are offering free PAT testing for electric blankets during the month of March. Pop along to one of our events\, along with your blanket to get it PAT tested. \nWhen: Monday 18th March\, 11:15am-12:30pm \nWhere: Community Hub at Bishopstone Station\, BN25 2RB \nFor further information\, please contact Ovesco at 0800 458 9045
URL:https://ovesco.co.uk/event/electrical-blanket-pat-testing/
LOCATION:Community Hub Bishopstone Station\, Station Road\, Bishopstone\, BN25 2RB\, United Kingdom
ATTACH;FMTTYPE=image/png:https://ovesco.co.uk/wp-content/uploads/2024/03/AdobeStock_562873121-1.png
END:VEVENT
END:VCALENDAR