BEGIN:VCALENDAR
VERSION:2.0
PRODID:-//Ovesco - ECPv6.15.20//NONSGML v1.0//EN
CALSCALE:GREGORIAN
METHOD:PUBLISH
X-ORIGINAL-URL:https://ovesco.co.uk
X-WR-CALDESC:Events for Ovesco
REFRESH-INTERVAL;VALUE=DURATION:PT1H
X-Robots-Tag:noindex
X-PUBLISHED-TTL:PT1H
BEGIN:VTIMEZONE
TZID:Europe/London
BEGIN:DAYLIGHT
TZOFFSETFROM:+0000
TZOFFSETTO:+0100
TZNAME:BST
DTSTART:20250330T010000
END:DAYLIGHT
BEGIN:STANDARD
TZOFFSETFROM:+0100
TZOFFSETTO:+0000
TZNAME:GMT
DTSTART:20251026T010000
END:STANDARD
BEGIN:DAYLIGHT
TZOFFSETFROM:+0000
TZOFFSETTO:+0100
TZNAME:BST
DTSTART:20260329T010000
END:DAYLIGHT
BEGIN:STANDARD
TZOFFSETFROM:+0100
TZOFFSETTO:+0000
TZNAME:GMT
DTSTART:20261025T010000
END:STANDARD
BEGIN:DAYLIGHT
TZOFFSETFROM:+0000
TZOFFSETTO:+0100
TZNAME:BST
DTSTART:20270328T010000
END:DAYLIGHT
BEGIN:STANDARD
TZOFFSETFROM:+0100
TZOFFSETTO:+0000
TZNAME:GMT
DTSTART:20271031T010000
END:STANDARD
END:VTIMEZONE
BEGIN:VEVENT
DTSTART;TZID=Europe/London:20260416T190000
DTEND;TZID=Europe/London:20260416T210000
DTSTAMP:20260422T234556
CREATED:20260218T153738Z
LAST-MODIFIED:20260218T154253Z
UID:5884-1776366000-1776373200@ovesco.co.uk
SUMMARY:Future Electric Home Talk
DESCRIPTION:Is the future house already here? \nCome and find out at OVESCO’s free Future Electric Home talk.  \nWe’ll walk you through what an all-electric home can look like\, from heat pumps and solar panels to batteries and electric cars\, and how these can work together to help cut bills to almost nothing and reduce carbon. We’ll also share how smart energy tariffs could help you earn money instead of paying it (yes\, really).  \nBring your questions\, curiosity and experiences.   \nCome and hear from:  \n\nNicki Myers – OVESCO Director and electric homeowner\, with hands-on experience of making the transition \n\n\nJamie Matthews – Co-Founder and Director at DabApps\, electric homeowner and tech expert \n\n\nDr Tim Katz – former Principal Lecturer in Engineering and Product Design\, Brighton University\, with decades of experience in electrical design \n\nNo question is too small! We love getting into the details.  \nDate: 16 April 2026\nTime: 7–9pm\nVenue: Upstairs at The Elephant & Castle\, White Hill\, Lewes BN7 2DJ  \nCost: FREE  \nHosted by OVESCO  \nJust turn up\, everyone is welcome. 
URL:https://ovesco.co.uk/event/future-electric-home-talk/
LOCATION:Upstairs at The Elephant & Castle Pub\, White Hill\, Lewes\, BN7 2DJ
ATTACH;FMTTYPE=image/png:https://ovesco.co.uk/wp-content/uploads/2026/02/Future-Electric-Home-Talk.png
END:VEVENT
END:VCALENDAR